BEGIN:VCALENDAR
VERSION:2.0
PRODID:-// - ECPv6.15.20//NONSGML v1.0//EN
CALSCALE:GREGORIAN
METHOD:PUBLISH
X-ORIGINAL-URL:https://c-n-c.fr
X-WR-CALDESC:Évènements pour 
REFRESH-INTERVAL;VALUE=DURATION:PT1H
X-Robots-Tag:noindex
X-PUBLISHED-TTL:PT1H
BEGIN:VTIMEZONE
TZID:Europe/Paris
BEGIN:DAYLIGHT
TZOFFSETFROM:+0100
TZOFFSETTO:+0200
TZNAME:CEST
DTSTART:20250330T010000
END:DAYLIGHT
BEGIN:STANDARD
TZOFFSETFROM:+0200
TZOFFSETTO:+0100
TZNAME:CET
DTSTART:20251026T010000
END:STANDARD
BEGIN:DAYLIGHT
TZOFFSETFROM:+0100
TZOFFSETTO:+0200
TZNAME:CEST
DTSTART:20260329T010000
END:DAYLIGHT
BEGIN:STANDARD
TZOFFSETFROM:+0200
TZOFFSETTO:+0100
TZNAME:CET
DTSTART:20261025T010000
END:STANDARD
BEGIN:DAYLIGHT
TZOFFSETFROM:+0100
TZOFFSETTO:+0200
TZNAME:CEST
DTSTART:20270328T010000
END:DAYLIGHT
BEGIN:STANDARD
TZOFFSETFROM:+0200
TZOFFSETTO:+0100
TZNAME:CET
DTSTART:20271031T010000
END:STANDARD
END:VTIMEZONE
BEGIN:VEVENT
DTSTART;VALUE=DATE:20260425
DTEND;VALUE=DATE:20260427
DTSTAMP:20260424T154100
CREATED:20260123T133703Z
LAST-MODIFIED:20260422T170658Z
UID:9478-1777075200-1777247999@c-n-c.fr
SUMMARY:SAINT SÉBASTIEN - 15ème Meeting de Saint-Sébastien
DESCRIPTION:
URL:https://c-n-c.fr/event/saint-sebastien-meeting-2/
END:VEVENT
BEGIN:VEVENT
DTSTART;VALUE=DATE:20260426
DTEND;VALUE=DATE:20260427
DTSTAMP:20260424T154100
CREATED:20260408T183230Z
LAST-MODIFIED:20260408T183230Z
UID:10061-1777161600-1777247999@c-n-c.fr
SUMMARY:ALLONNES - Finale régionale U11
DESCRIPTION:
URL:https://c-n-c.fr/event/allonnes-finale-regionale-u11/
END:VEVENT
BEGIN:VEVENT
DTSTART;TZID=Europe/Paris:20260510T080000
DTEND;TZID=Europe/Paris:20260510T170000
DTSTAMP:20260424T154100
CREATED:20260422T164607Z
LAST-MODIFIED:20260422T164607Z
UID:10074-1778400000-1778432400@c-n-c.fr
SUMMARY:NORT SUR ERDRE - Benjamins plot N° 2
DESCRIPTION:
URL:https://c-n-c.fr/event/nort-sur-erdre-benjamins-plot-n-2/
END:VEVENT
BEGIN:VEVENT
DTSTART;VALUE=DATE:20260516
DTEND;VALUE=DATE:20260518
DTSTAMP:20260424T154100
CREATED:20260123T133808Z
LAST-MODIFIED:20260123T133808Z
UID:9480-1778889600-1779062399@c-n-c.fr
SUMMARY:LA ROCHE SUR YON - Meeting
DESCRIPTION:
URL:https://c-n-c.fr/event/la-roche-sur-yon-meeting/
END:VEVENT
BEGIN:VEVENT
DTSTART;VALUE=DATE:20260606
DTEND;VALUE=DATE:20260608
DTSTAMP:20260424T154100
CREATED:20260422T164723Z
LAST-MODIFIED:20260422T170134Z
UID:10076-1780704000-1780876799@c-n-c.fr
SUMMARY:DONGES - Championnat départemental U 14 et après
DESCRIPTION:
URL:https://c-n-c.fr/event/donges-championnat-departemental-u-14/
END:VEVENT
BEGIN:VEVENT
DTSTART;VALUE=DATE:20260613
DTEND;VALUE=DATE:20260614
DTSTAMP:20260424T154100
CREATED:20260422T165113Z
LAST-MODIFIED:20260422T165113Z
UID:10080-1781308800-1781395199@c-n-c.fr
SUMMARY:CHALONNES SUR LOIRE - Inter-clubs benjamins U13
DESCRIPTION:
URL:https://c-n-c.fr/event/chalonnes-sur-loire-inter-clubs-benjamins-u13/
END:VEVENT
BEGIN:VEVENT
DTSTART;VALUE=DATE:20260614
DTEND;VALUE=DATE:20260615
DTSTAMP:20260424T154100
CREATED:20260422T165443Z
LAST-MODIFIED:20260422T165443Z
UID:10084-1781395200-1781481599@c-n-c.fr
SUMMARY:CHALONNES SUR LOIRE - Coupe de la ligue U 11
DESCRIPTION:
URL:https://c-n-c.fr/event/chalonnes-sur-loire-coupe-de-la-ligue-u-11/
END:VEVENT
BEGIN:VEVENT
DTSTART;VALUE=DATE:20260628
DTEND;VALUE=DATE:20260629
DTSTAMP:20260424T154100
CREATED:20260422T165005Z
LAST-MODIFIED:20260422T170111Z
UID:10078-1782604800-1782691199@c-n-c.fr
SUMMARY:NOZAY - Trophée 4 nages "nageur complet du Comité de Loire-Atlantique"
DESCRIPTION:
URL:https://c-n-c.fr/event/nozay-trophee-4-nages-nageur-complet-du-comite-de-loire-atlantique/
END:VEVENT
BEGIN:VEVENT
DTSTART;VALUE=DATE:20261107
DTEND;VALUE=DATE:20261108
DTSTAMP:20260424T154100
CREATED:20260311T092830Z
LAST-MODIFIED:20260312T091916Z
UID:9836-1794009600-1794095999@c-n-c.fr
SUMMARY:2 LOTOS - Halle de Béré - (après-midi et soir)
DESCRIPTION:
URL:https://c-n-c.fr/event/loto/
END:VEVENT
END:VCALENDAR